BEGIN:VCALENDAR
VERSION:2.0
PRODID:-//Institut Darul Ridzuan (IDR) - ECPv5.16.1//NONSGML v1.0//EN
CALSCALE:GREGORIAN
METHOD:PUBLISH
X-ORIGINAL-URL:https://idrperak.my
X-WR-CALDESC:Events for Institut Darul Ridzuan (IDR)
REFRESH-INTERVAL;VALUE=DURATION:PT1H
X-Robots-Tag:noindex
X-PUBLISHED-TTL:PT1H
BEGIN:VTIMEZONE
TZID:UTC
BEGIN:STANDARD
TZOFFSETFROM:+0000
TZOFFSETTO:+0000
TZNAME:UTC
DTSTART:20220101T000000
END:STANDARD
END:VTIMEZONE
BEGIN:VEVENT
DTSTART;VALUE=DATE:20220713
DTEND;VALUE=DATE:20220714
DTSTAMP:20260420T123745
CREATED:20230112T090719Z
LAST-MODIFIED:20230112T090719Z
UID:885-1657670400-1657756799@idrperak.my
SUMMARY:LIBAT URUS PERAK SEJAHTERA DAN PELAN TINDAKAN KOMUNIKASI STRATEGIK BERSAMA AHLI PARLIMEN KUALA KANGSAR
DESCRIPTION:13 JULAI 2022 – Institut Darul Ridzuan buat kunjung kalinya mengadakan sesi libat urus bersama YB Datuk Mastura Tan Sri Dato’ Mohd Yazid\, Timbalan Menteri di Jabatan Perdana Menteri (Tugas-tugas Khas) di pejabat beliau di Jabatan Perdana Menteri di Putrajaya. \nKunjungan pertama kali ke pejabat YB Datuk Mastura Tan Sri Dato’ Mohd Yazid ini adalah untuk menerangkan mengenai pelan Perak Sejahtera 2030\, di samping memberi pendedahan mengenai agenda dan projek-projek yang terlibat di kawasan YB Datuk Mastura Tan Sri Dato’ Mohd Yazid. \nDalam sesi pertemuan ini juga diadakan perkongsian idea dan perbincangan antara pihak YB Datuk Mastura Tan Sri Dato’ Mohd Yazid bersama Institut Darul Ridzuan untuk penyelarasan pelan komunikasi sebagai platform yang akan digunakan bagi menyampaikan agenda Perak Sejahtera serta menjalinkan kerjasama antara kedua-dua pihak bagi bersama-sama memacu projek berimpak tinggi di daerah Kuala Kangsar. \n  \nDr Maisarah Ahmad (kiri) bersama YB Datuk Mastura Tan Sri Dato’ Mohd Yazid (kanan)\n  \nTidak dilupakan\, ucapan terima kasih kepada YB Datuk Mastura Tan Sri Dato’ Mohd Yazid atas kesudian menerima kunjungan kami dalam usaha untuk bersama-sama menggerakkan Perak Sejahtera 2030. \n#PerakSejahtera\n#PerakSejahtera2030
URL:https://idrperak.my/event/libat-urus-perak-sejahtera-dan-pelan-tindakan-komunikasi-strategik-bersama-ahli-parlimen-kuala-kangsar/
LOCATION:Pejabat Perdana Menteri\, Blok Utama\, Bangunan Perdana Putra\, Pusat Pentadbiran Kerajaan Persekutuan\, Putrajaya\, 62502\, Malaysia
ATTACH;FMTTYPE=image/jpeg:https://idrperak.my/wp-content/uploads/2023/01/event-1.jpg
ORGANIZER;CN="Institut%20Darul%20Ridzuan":MAILTO:hello@idrperak.com
END:VEVENT
END:VCALENDAR