BEGIN:VCALENDAR
VERSION:2.0
PRODID:-//Institut Darul Ridzuan (IDR) - ECPv5.16.1//NONSGML v1.0//EN
CALSCALE:GREGORIAN
METHOD:PUBLISH
X-WR-CALNAME:Institut Darul Ridzuan (IDR)
X-ORIGINAL-URL:https://idrperak.my
X-WR-CALDESC:Events for Institut Darul Ridzuan (IDR)
REFRESH-INTERVAL;VALUE=DURATION:PT1H
X-Robots-Tag:noindex
X-PUBLISHED-TTL:PT1H
BEGIN:VTIMEZONE
TZID:UTC
BEGIN:STANDARD
TZOFFSETFROM:+0000
TZOFFSETTO:+0000
TZNAME:UTC
DTSTART:20220101T000000
END:STANDARD
END:VTIMEZONE
BEGIN:VEVENT
DTSTART;VALUE=DATE:20220802
DTEND;VALUE=DATE:20220804
DTSTAMP:20260419T033754
CREATED:20220728T083321Z
LAST-MODIFIED:20230115T070447Z
UID:795-1659398400-1659571199@idrperak.my
SUMMARY:BENGKEL INKUBATOR PEMINDAHAN PENGETAHUAN PELAN TINDAKAN KOMUNIKASI STRATEGIK BERSAMA PEJABAT (EXCO)
DESCRIPTION:Memberi kefahaman mengenai Perak Sejahtera 2030.\nMendapatkan komitmen daripada wakil-wakil pejabat EXCO.\nMembangunkan Pelan Pelaksanaan Komunikasi Strategik.
URL:https://idrperak.my/event/bengkel-inkubator-pemindahan-pengetahuan-pelan-tindakan-komunikasi-strategik-bersama-pejabat-exco/
LOCATION:BERJAYA PENANG HOTEL\, Malaysia
CATEGORIES:BENGKEL
END:VEVENT
END:VCALENDAR