BEGIN:VCALENDAR
VERSION:2.0
PRODID:-//Institut Darul Ridzuan (IDR) - ECPv5.16.1//NONSGML v1.0//EN
CALSCALE:GREGORIAN
METHOD:PUBLISH
X-WR-CALNAME:Institut Darul Ridzuan (IDR)
X-ORIGINAL-URL:https://idrperak.my
X-WR-CALDESC:Events for Institut Darul Ridzuan (IDR)
REFRESH-INTERVAL;VALUE=DURATION:PT1H
X-Robots-Tag:noindex
X-PUBLISHED-TTL:PT1H
BEGIN:VTIMEZONE
TZID:UTC
BEGIN:STANDARD
TZOFFSETFROM:+0000
TZOFFSETTO:+0000
TZNAME:UTC
DTSTART:20220101T000000
END:STANDARD
END:VTIMEZONE
BEGIN:VEVENT
DTSTART;TZID=UTC:20220818T101500
DTEND;TZID=UTC:20220818T120000
DTSTAMP:20260420T122528
CREATED:20220818T013153Z
LAST-MODIFIED:20220818T013153Z
UID:824-1660817700-1660824000@idrperak.my
SUMMARY:Cer Citer Perak Sejahtera 2030 di Perak FM!
DESCRIPTION:Nak tahu tentang Perak Sejahtera 2030? \nJom dengarkan Cer Citer Perak Sejahtera 2030 di Perak FM! \nBersama Dr. Maisarah Ahmad\, Ketua Pegawai Eksekutif\, Institut Darul Ridzuan \nTarikh: 18 Ogos 2022\nMasa: 10:15 pagi \n“Perak Makmur\, Rakyat Sejahtera”
URL:https://idrperak.my/event/cer-citer-perak-sejahtera-2030-di-perak-fm/
LOCATION:RTM Perak\, Ipoh\, Malaysia
ATTACH;FMTTYPE=image/jpeg:https://idrperak.my/wp-content/uploads/2022/08/cer-citer-fm.jpeg
END:VEVENT
END:VCALENDAR