BEGIN:VCALENDAR
VERSION:2.0
PRODID:-//Institut Darul Ridzuan (IDR) - ECPv5.16.1//NONSGML v1.0//EN
CALSCALE:GREGORIAN
METHOD:PUBLISH
X-ORIGINAL-URL:https://idrperak.my
X-WR-CALDESC:Events for Institut Darul Ridzuan (IDR)
REFRESH-INTERVAL;VALUE=DURATION:PT1H
X-Robots-Tag:noindex
X-PUBLISHED-TTL:PT1H
BEGIN:VTIMEZONE
TZID:UTC
BEGIN:STANDARD
TZOFFSETFROM:+0000
TZOFFSETTO:+0000
TZNAME:UTC
DTSTART:20230101T000000
END:STANDARD
END:VTIMEZONE
BEGIN:VEVENT
DTSTART;VALUE=DATE:20230217
DTEND;VALUE=DATE:20230218
DTSTAMP:20260420T125226
CREATED:20230222T095249Z
LAST-MODIFIED:20230222T095249Z
UID:957-1676592000-1676678399@idrperak.my
SUMMARY:MAJLIS PENYERAHAN MEMORANDUM PERSEFAHAMAN AKADEMI SEKURITI MAKANAN (PENUBUHAN DANA ENDOWMEN) DI ANTARA PERAK SADC\, USAS DAN IDR
DESCRIPTION:MAJLIS PENYERAHAN MEMORANDUM PERSEFAHAMAN AKADEMI SEKURITI MAKANAN (PENUBUHAN DANA ENDOWMEN) DI ANTARA PERAK SADC\, USAS DAN IDR \n17 Februari 2023 – Perak SADC memperuntukkan konsep dana endowmen atau wakaf berjumlah RM20 juta yang bakal diguna pakai dalam pembangunan akademi sekuriti makanan bagi memperkukuhkan jaminan sekuriti makanan melalui penyelidikan dan pembangunan secara berterusan. \nPenubuhan akademi sekuriti makanan adalah antara langkah menggerakkan Pelan Perak Sejahtera 2030 yang meletakkan agenda ini dalam program flagship Lembah Bakul Makanan dan bertujuan\, memastikan ketersediaan kuantiti makanan yang mencukupi serta berkualiti dibekalkan melalui pengeluaran untuk kegunaan domestik dan import. \nPertukaran MoU itu membabitkan antara Perak SADC yang diwakili Tuan Haji Yahanis Yahya bersama Universiti Sultan Azlan Shah (USAS) yang diwakili Tan Sri Prof Dr Nordin Kardi\, Naib Canselor\, dan Institut Darul Ridzuan (IDR) yang diwakili Dr Maisarah Ahmad\, Ketua Pegawai Eksekutif. \nAkademi sekuriti makanan yang pertama di Malaysia itu diyakini akan menjadi perintis kepada usaha sama yang membabitkan pemain industri\, ahli akademik\, agensi kerajaan dan negeri yang akan membuka jalan kepada implementasi sekuriti makanan yang berimpak tinggi\, selain kalis perubahan masa hadapan. \n#PerakSejahtera2030\n#PerakMakmurRakyatSejahtera\n#SekuritiMakanan \n(sumber: Berita Harian)
URL:https://idrperak.my/event/majlis-penyerahan-memorandum-persefahaman-akademi-sekuriti-makanan-penubuhan-dana-endowmen-di-antara-perak-sadc-usas-dan-idr/
LOCATION:Stadium Indera Mulia\, Persiaran Bulan\, Kompleks Sukan Ipoh\, Ipoh\, Perak\, 31400\, Malaysia
CATEGORIES:MOU
ATTACH;FMTTYPE=image/jpeg:https://idrperak.my/wp-content/uploads/2023/02/mou.jpg
END:VEVENT
END:VCALENDAR