BEGIN:VCALENDAR
VERSION:2.0
PRODID:-//Institut Darul Ridzuan (IDR) - ECPv5.16.1//NONSGML v1.0//EN
CALSCALE:GREGORIAN
METHOD:PUBLISH
X-ORIGINAL-URL:https://idrperak.my
X-WR-CALDESC:Events for Institut Darul Ridzuan (IDR)
REFRESH-INTERVAL;VALUE=DURATION:PT1H
X-Robots-Tag:noindex
X-PUBLISHED-TTL:PT1H
BEGIN:VTIMEZONE
TZID:UTC
BEGIN:STANDARD
TZOFFSETFROM:+0000
TZOFFSETTO:+0000
TZNAME:UTC
DTSTART:20230101T000000
END:STANDARD
END:VTIMEZONE
BEGIN:VEVENT
DTSTART;VALUE=DATE:20230301
DTEND;VALUE=DATE:20230302
DTSTAMP:20260420T124205
CREATED:20230303T154446Z
LAST-MODIFIED:20230303T155942Z
UID:964-1677628800-1677715199@idrperak.my
SUMMARY:MAJLIS PENYAMPAIAN GERAN PENERBITAN PERAK SEJAHTERA 2030
DESCRIPTION:1 Mac 2023 – Hari ini telah berlangsungnya Majlis Penyampaian Geran Penerbitan Perak Sejahtera 2030 iaitu satu lagi inisiatif Kerajaan Negeri Perak melalui Institut Darul Ridzuan (IDR) bagi penerbitan 10 bahan ilmiah berkaitan cabaran dan isu negeri Perak. \nInisiatif ini digerakkan oleh IDR dengan kerjasama strategik Pemikir Darul Ridzuan\, pemain industri serta pakar-pakar pelbagai bidang dari institusi pengajian tinggi bagi menerbitkan 10 buku yang akan menjadi rujukan oleh pemegang taruh negeri dan pelaksana ke arah merealisasikan pelan Perak Sejahtera 2030. \nPenerbitan ini juga bakal meningkatkan kefahaman masyarakat mengenai senario semasa yang dihadapi negeri Perak.\nMelalui geran penerbitan berkenaan\, IDR akan memfokuskan kepada 10 buah buku dengan tema-tema berikut\, iaitu Orang Asli\, Orang Kurang Upaya (OKU)\, Masyarakat Menua\, TVET\, Migrasi\, Kemiskinan & Kerentanan\, Kesihatan & Kesejahteraan\, Sekuriti Makanan & Kelestarian Alam\, Ekonomi Digital dan Analitis Data Raya. \nBuku yang julung kali diterbitkan ini dijangka siap sepenuhnya pada tahun ini. \n#PenerbitanPerakSejahtera2030\n#PerakSejahtera2030\n#PerakMakmurRakyatSejahtera
URL:https://idrperak.my/event/majlis-penyampaian-geran-penerbitan-perak-sejahtera-2030/
LOCATION:Pejabat Setiausaha Kerajaan Negeri Perak\, Jalan Panglima Bukit Gantang Wahab\, 30100 Ipoh\, Perak\, Ipoh\, Perak\, 30100\, Malaysia
ATTACH;FMTTYPE=image/jpeg:https://idrperak.my/wp-content/uploads/2023/03/20230301_125306-scaled.jpg
END:VEVENT
END:VCALENDAR