BEGIN:VCALENDAR
VERSION:2.0
PRODID:-//Institut Darul Ridzuan (IDR) - ECPv5.16.1//NONSGML v1.0//EN
CALSCALE:GREGORIAN
METHOD:PUBLISH
X-WR-CALNAME:Institut Darul Ridzuan (IDR)
X-ORIGINAL-URL:https://idrperak.my
X-WR-CALDESC:Events for Institut Darul Ridzuan (IDR)
REFRESH-INTERVAL;VALUE=DURATION:PT1H
X-Robots-Tag:noindex
X-PUBLISHED-TTL:PT1H
BEGIN:VTIMEZONE
TZID:UTC
BEGIN:STANDARD
TZOFFSETFROM:+0000
TZOFFSETTO:+0000
TZNAME:UTC
DTSTART:20230101T000000
END:STANDARD
END:VTIMEZONE
BEGIN:VEVENT
DTSTART;TZID=UTC:20230309T091500
DTEND;TZID=UTC:20230309T170000
DTSTAMP:20260420T121612
CREATED:20230313T094300Z
LAST-MODIFIED:20230313T094300Z
UID:980-1678353300-1678381200@idrperak.my
SUMMARY:PERAK MAKMUR SUMMIT
DESCRIPTION:Sempena dengan Perak Makmur Summit yang dianjurkan oleh KSI Strategic Institute for Asia Pacific dengan kerjasama Perak Academy dan Malaysian International Chamber Commerce and Industry (MICCI) Perak\, Dr. Maisarah Ahmad\, Ketua Eksekutif IDR telah dijemput sebagai satu daripada panel bagi slot Future Ready Perak – Ushering Digital Transformation and Innovation di Perak Makmur Summit. \nPerak Makmur Summit merupakan persidangan yang mengumpulkan pakar-pakar bidang yang terkemuka\, pemain industri\, ahli-ahli akademik dan pegawai-pegawai kerajaan negeri Perak dan luar Perak bagi berkongsi idea dan membincangkan potensi negeri Perak yang dapat difokuskan bagi menarik minat pelabur untuk melabur di negeri ini. \nDi samping itu\, sesi ini juga turut dijadikan platform untuk mencari penyelesaian yang strategik bagi cabaran dan isu yang sedang dihadapi oleh negeri demi kejayaan dan kemajuan negeri tercinta ini selaras dengan tema persidangan ini\, iaitu Recover\, Reset\, Resilience – Unlocking Prosperity in the Darul Ridzuan State (Membuka Kemakmuran di Negeri Darul Ridzuan). \nSebagai salah seorang panel\, Dr. Maisarah Ahmad memanfaatkan peluang yang diberikan ini untuk menyampaikan perkongsian mengenai peluang dan cabaran yang dihadapi oleh organisasi dan perniagaan dalam menangani perubahan ekonomi global\, inisiatif yang boleh dilakukan untuk menyesuaikan diri dalam era transformasi digital bagi menjayakan pendigitalan di negeri Perak. \n#PerakMakmurRakyatSejahtera\n#PerakSejahtera2030\n#KSIWhereLeadersMeet
URL:https://idrperak.my/event/perak-makmur-summit/
LOCATION:Royal Perak Gold Club\, Jalan Sultan Azlan Shah\, Ipoh\, Perak\, 31400\, Malaysia
ATTACH;FMTTYPE=image/jpeg:https://idrperak.my/wp-content/uploads/2023/03/PMS.jpg
ORGANIZER;CN="KSI%20Strategic%20Institute%20for%20Asia%20Pacific":MAILTO:info@kasi.asia
END:VEVENT
END:VCALENDAR