BEGIN:VCALENDAR
VERSION:2.0
PRODID:-//Institut Darul Ridzuan (IDR) - ECPv5.16.1//NONSGML v1.0//EN
CALSCALE:GREGORIAN
METHOD:PUBLISH
X-WR-CALNAME:Institut Darul Ridzuan (IDR)
X-ORIGINAL-URL:https://idrperak.my
X-WR-CALDESC:Events for Institut Darul Ridzuan (IDR)
REFRESH-INTERVAL;VALUE=DURATION:PT1H
X-Robots-Tag:noindex
X-PUBLISHED-TTL:PT1H
BEGIN:VTIMEZONE
TZID:UTC
BEGIN:STANDARD
TZOFFSETFROM:+0000
TZOFFSETTO:+0000
TZNAME:UTC
DTSTART:20230101T000000
END:STANDARD
END:VTIMEZONE
BEGIN:VEVENT
DTSTART;VALUE=DATE:20230321
DTEND;VALUE=DATE:20230323
DTSTAMP:20260423T051155
CREATED:20230331T013529Z
LAST-MODIFIED:20230331T013529Z
UID:990-1679356800-1679529599@idrperak.my
SUMMARY:BENGKEL KORIDOR TVET MALAYSIA SIRI 2
DESCRIPTION:23 Mac 2023 – Pada 21 dan 22 Mac 2023 telah berlangsungnya Bengkel Koridor TVET Malaysia Siri 2 yang diadakan di Hotel Travelodge Ipoh anjuran Pusat Aspirasi Anak Perak (PASAK) dengan kerjasama Institut Darul Ridzuan (IDR) bagi meneruskan pelaksanaan Agenda Koridor TVET Malaysia yang telah mula digerakkan bermula awal tahun ini. \n \nBengkel ini telah dirasmikan oleh Yang Berhormat Encik Sivanesan A/L Achalingam selaku Pengerusi Jawatankuasa Kesihatan\, Sumber Manusia\, Intergrasi Nasional & Hal Ehwal Masyarakat India\, yang juga merupakan pengerusi PASAK. Sesi bengkel ini dimulakan dengan ucapan aluan oleh Encik Aldrin Ng\, Pengarah PASAK dan disusuli oleh Dr. Maisarah Ahmad\, Ketua Eksekutif IDR bagi menyampaikan penerangan mengenai Perak Sejahtera 2030 serta mengenai inisiatif yang ingin dilaksanakan untuk menjayakan agenda ini. \n \n \nSesi ini kemudian diteruskan dengan penerangan dan pembentangan daripada Pengarah\, Ketua Bahagian dan wakil-wakil institut latihan kemahiran awam dan swasta mengenai program dan pencapaian yang diperoleh institusi masing-masing yang boleh diketengahkan bagi mencapai hasrat Perak Sejahtera 2030\, iaitu mewujudkan peluang pekerjaan berkualiti. Seramai 82 jemputan dan pemerhati yang hadir sepanjang dua hari bengkel ini berlangsung telah berkongsi pendapat\, idea dan daya usaha yang boleh digerakkan bersama-sama. \nSemoga usahasama yang diadakan ini membuahkan hasil yang boleh membantu dalam menyokong pelaksanaan agenda utama dalam pelan Perak Sejahtera 2030 serta mendatangkan manfaat bermutu kepada generasi muda di Perak. \n#KoridorTVETMalaysia\n#PerakSejahtera2030\n#PerakMakmurRakyatSejahtera
URL:https://idrperak.my/event/bengkel-koridor-tvet-malaysia-siri-2/
LOCATION:Travelodge Ipoh\, Jalan Raja Dihilir\, Ipoh\, Perak\, 30350\, Malaysia
CATEGORIES:BENGKEL
ATTACH;FMTTYPE=image/jpeg:https://idrperak.my/wp-content/uploads/2023/03/tvet.jpg
ORGANIZER;CN="Institut%20Darul%20Ridzuan":MAILTO:hello@idrperak.com
END:VEVENT
END:VCALENDAR