BEGIN:VCALENDAR
VERSION:2.0
PRODID:-//Institut Darul Ridzuan (IDR) - ECPv5.16.1//NONSGML v1.0//EN
CALSCALE:GREGORIAN
METHOD:PUBLISH
X-WR-CALNAME:Institut Darul Ridzuan (IDR)
X-ORIGINAL-URL:https://idrperak.my
X-WR-CALDESC:Events for Institut Darul Ridzuan (IDR)
REFRESH-INTERVAL;VALUE=DURATION:PT1H
X-Robots-Tag:noindex
X-PUBLISHED-TTL:PT1H
BEGIN:VTIMEZONE
TZID:UTC
BEGIN:STANDARD
TZOFFSETFROM:+0000
TZOFFSETTO:+0000
TZNAME:UTC
DTSTART:20220101T000000
END:STANDARD
END:VTIMEZONE
BEGIN:VEVENT
DTSTART;VALUE=DATE:20220625
DTEND;VALUE=DATE:20220627
DTSTAMP:20260423T091737
CREATED:20230112T060919Z
LAST-MODIFIED:20230112T083812Z
UID:850-1656115200-1656287999@idrperak.my
SUMMARY:PROGRAM CELIK NEGARA SIRI 3
DESCRIPTION:PADA 25 & 26 Jun 2022\, telah berlangsungnya Program Celik Negara Siri 3 di Sentosa Eco Park\, Chenderiang dengan memfokuskan tema Kenegaraan untuk mengetengahkan isu Undi 18. \n  \nSesi perkongsian bersama Prof. Dr. Mohd Azizuddin Mohd Sani\, Profesor Politik dan Hubungan Antarabangsa\, Universiti Utara Malaysia (UUM)\n  \nSesi perkongsian yang disampaikan oleh Prof. Dr. Mohd Azizuddin Mohd Sani\, Profesor Politik dan Hubungan Antarabangsa\, Universiti Utara Malaysia (UUM) yang dihadiri oleh 127 orang peserta dari sekitar Tapah dan Seri Iskandar ini diadakan bagi memberi kesedaran kepada belia mengenai hak dan peranan di samping mengangkat aspirasi anak muda dalam sistem demokrasi di Malaysia. \n  \nSesi perkongsian bersama Dr. Maisarah Ahmad\, Ketua Eksekutif Institut Darul Ridzuan\n  \nProjek yang digerakkan di bawah Program Flagship 17\, Komuniti Perak Sejahtera ini turut dimanfaatkan sebagai sesi perkongsian Perak Sejahtera 2030 yang disampaikan oleh Dr. Maisarah Ahmad\, Ketua Eksekutif Institut Darul Ridzuan. Sesi ini mengambil peluang untuk mendapatkan pandangan dan maklum balas belia mengenai Perak Sejahtera 2030 yang dilancarkan pada 15 Jun 2022. Pelan ini ternyata diterima baik oleh para belia dengan harapan agar kerajaan terus komited dalam mensejahterakan negeri Perak. \nAyuh sertai kami dalam Program Celik Negara Siri 4 yang akan datang pula! \n#celiknegara\n#beliacelikaspirasinegara\n#peraksejahtera2030\n#perakmakmurrakyatsejahtera
URL:https://idrperak.my/event/program-celik-negara-siri-3/
LOCATION:Sentosa Eco Park\, Chenderiang\, Lot 5991\, Sungai Cincin\, Mukim\, Tapah\, Perak\, 35300\, Malaysia
ATTACH;FMTTYPE=image/jpeg:https://idrperak.my/wp-content/uploads/2023/01/event.jpg
ORGANIZER;CN="Institut%20Darul%20Ridzuan":MAILTO:hello@idrperak.com
END:VEVENT
BEGIN:VEVENT
DTSTART;TZID=UTC:20220615T140000
DTEND;TZID=UTC:20220615T163000
DTSTAMP:20260423T091737
CREATED:20230106T084339Z
LAST-MODIFIED:20230106T090100Z
UID:837-1655301600-1655310600@idrperak.my
SUMMARY:MAJLIS PELANCARAN PELAN PERAK SEJAHTERA 2030
DESCRIPTION:YAB Dato’ Seri Haji Saarani Mohamad\, Menteri Besar Perak telah melancarkan pelan Perak Sejahtera 2030 sebagai pelan induk pembangunan negeri bagi tempoh sehingga tahun 2030 pada 15 Jun 2022 jam 2.00 petang. \nPADA 15 JUN 2022 telah berlangsung majlis pelancaran pelan Perak Sejahtera 2030 yang disempurnakan oleh YAB Dato’ Seri Saarani Mohamad\, Menteri Besar Perak\, bertempat di Kinta Riverfront Hotel & Suites\, Ipoh. \nPelan Perak Sejahtera 2030 yang dirangka ini adalah sebagai garis panduan bagi mencapai matlamat utama negeri iaitu Perak Makmur\, Rakyat Sejahtera. Pelan ini merupakan sebuah pelan pembangunan negeri komprehensif yang dirangka untuk pembangunan jangka panjang Negeri Perak. \n\nTempoh pelaksanaan pelan ini adalah selama 8 tahun\, bermula 2022 sehingga 2030 di mana jawatankuasa yang terlibat akan bersidang sekurang-kurangnya sekali setahun bagi memacu pelaksanaan pelan ini.\n\n\n\n\n\n\n\n\n#PerakSejahtera\n#peraksejahtera2030
URL:https://idrperak.my/event/majlis-pelancaran-pelan-perak-sejahtera-2030/
LOCATION:Kinta Riverfront Hotel & Suites\, Jalan Lim Bo Seng\, Ipoh\, Perak\, 30000\, Malaysia
ATTACH;FMTTYPE=image/jpeg:https://idrperak.my/wp-content/uploads/2023/01/event-poster.jpg
END:VEVENT
BEGIN:VEVENT
DTSTART;TZID=UTC:20220528T080000
DTEND;TZID=UTC:20220528T230000
DTSTAMP:20260423T091737
CREATED:20220611T150014Z
LAST-MODIFIED:20230106T094427Z
UID:496-1653724800-1653778800@idrperak.my
SUMMARY:Karnival Anak Muda (KAMU)
DESCRIPTION:Penyelarasan gerak kerja untuk Karnival Mesra Anak Muda (KAMU) Zon Utara diadakan di Institut Darul Ridzuan yang dihadiri oleh wakil daripada Pejabat Menteri Besar\, PASAK\, Jabatan Pendidikan Negeri Perak\, GPMS\, GMPK\, Majlis Belia\, E-Sports Perak dan pertubuhan-pertubuhan belia.\n\n\n\nPerbincangan yang ringkas dan padat ini diharapkan dapat memastikan karnival dirancang mencapai matlamat yang disasarkan.
URL:https://idrperak.my/event/karnival-anak-muda-kamu/
LOCATION:Kompleks Rakan Muda Larut Matang & Selama\, Jalan Bukit Jana\, Kamunting\, Perak\, 34600\, Malaysia
ORGANIZER;CN="Institut%20Darul%20Ridzuan":MAILTO:hello@idrperak.com
END:VEVENT
END:VCALENDAR