BEGIN:VCALENDAR
VERSION:2.0
PRODID:-//Institut Darul Ridzuan (IDR) - ECPv5.16.1//NONSGML v1.0//EN
CALSCALE:GREGORIAN
METHOD:PUBLISH
X-ORIGINAL-URL:https://idrperak.my
X-WR-CALDESC:Events for Institut Darul Ridzuan (IDR)
REFRESH-INTERVAL;VALUE=DURATION:PT1H
X-Robots-Tag:noindex
X-PUBLISHED-TTL:PT1H
BEGIN:VTIMEZONE
TZID:UTC
BEGIN:STANDARD
TZOFFSETFROM:+0000
TZOFFSETTO:+0000
TZNAME:UTC
DTSTART:20220101T000000
END:STANDARD
END:VTIMEZONE
BEGIN:VEVENT
DTSTART;VALUE=DATE:20220802
DTEND;VALUE=DATE:20220804
DTSTAMP:20260421T143010
CREATED:20220728T083321Z
LAST-MODIFIED:20230115T070447Z
UID:795-1659398400-1659571199@idrperak.my
SUMMARY:BENGKEL INKUBATOR PEMINDAHAN PENGETAHUAN PELAN TINDAKAN KOMUNIKASI STRATEGIK BERSAMA PEJABAT (EXCO)
DESCRIPTION:Memberi kefahaman mengenai Perak Sejahtera 2030.\nMendapatkan komitmen daripada wakil-wakil pejabat EXCO.\nMembangunkan Pelan Pelaksanaan Komunikasi Strategik.
URL:https://idrperak.my/event/bengkel-inkubator-pemindahan-pengetahuan-pelan-tindakan-komunikasi-strategik-bersama-pejabat-exco/
LOCATION:BERJAYA PENANG HOTEL\, Malaysia
CATEGORIES:BENGKEL
END:VEVENT
BEGIN:VEVENT
DTSTART;VALUE=DATE:20220804
DTEND;VALUE=DATE:20220806
DTSTAMP:20260421T143010
CREATED:20220728T083739Z
LAST-MODIFIED:20230115T070441Z
UID:801-1659571200-1659743999@idrperak.my
SUMMARY:BENGKEL PEMBANGUNAN KIT KOMUNIKASI STRATEGIK PERAK SEJAHTERA 2030 MENGIKUT KUMPULAN SASARAN
DESCRIPTION:Mengenal pasti naratif penceritaan untuk setiap segmen masyarakat.\nMengenal pasti rakan strategik pelaksanaan Perak Sejahtera 2030 mengikut daerah.
URL:https://idrperak.my/event/bengkel-pembangunan-kit-komunikasi-strategik-perak-sejahtera-2030-mengikut-kumpulan-sasaran/
LOCATION:BERJAYA PENANG HOTEL\, Malaysia
CATEGORIES:BENGKEL
END:VEVENT
BEGIN:VEVENT
DTSTART;VALUE=DATE:20220809
DTEND;VALUE=DATE:20220810
DTSTAMP:20260421T143010
CREATED:20220808T063709Z
LAST-MODIFIED:20230115T070434Z
UID:810-1660003200-1660089599@idrperak.my
SUMMARY:BENGKEL PEMBANGUNAN PELAN TINDAKAN IPOH SEBAGAI BANDAR EKONOMI DONAT 2027
DESCRIPTION:Memberi pendedahan kepada jentera Kerajaan Negeri mengenai pelaksanaan Model Ekonomi Donat melalui Perak Sejahtera 2030.\nPersediaan untuk Perak Sejahtera 2030 State Leadership Strategic Workshop & Retreat (Sesi Bengkel 3 jam) bersama Pengasas Ekonomi Donat\, Prof. Kate Raworth di Ipoh.
URL:https://idrperak.my/event/bengkel-pembangunan-pelan-tindakan-ipoh-sebagai-bandar-ekonomi-donat-2027/
LOCATION:SUNWAY UNIVERSITY\, SUBANG JAYA\, Malaysia
CATEGORIES:BENGKEL
END:VEVENT
BEGIN:VEVENT
DTSTART;VALUE=DATE:20220811
DTEND;VALUE=DATE:20220813
DTSTAMP:20260421T143010
CREATED:20220808T070543Z
LAST-MODIFIED:20230115T070428Z
UID:818-1660176000-1660348799@idrperak.my
SUMMARY:BENGKEL INDEKS KESEJAHTERAAN PERAK BERSAMA PEMBEKAL DATA
DESCRIPTION:Menyampaikan intipati Perak Sejahtera 2030 dan peranan Indeks Kesejahteraan Perak.\nMendapatkan komitmen daripada pembekal data untuk membekal data secara berkala.
URL:https://idrperak.my/event/bengkel-indeks-kesejahteraan-perak-bersama-pembekal-data/
LOCATION:cameron highland\, Pahang\, Malaysia
CATEGORIES:BENGKEL
END:VEVENT
BEGIN:VEVENT
DTSTART;TZID=UTC:20220818T101500
DTEND;TZID=UTC:20220818T120000
DTSTAMP:20260421T143010
CREATED:20220818T013153Z
LAST-MODIFIED:20220818T013153Z
UID:824-1660817700-1660824000@idrperak.my
SUMMARY:Cer Citer Perak Sejahtera 2030 di Perak FM!
DESCRIPTION:Nak tahu tentang Perak Sejahtera 2030? \nJom dengarkan Cer Citer Perak Sejahtera 2030 di Perak FM! \nBersama Dr. Maisarah Ahmad\, Ketua Pegawai Eksekutif\, Institut Darul Ridzuan \nTarikh: 18 Ogos 2022\nMasa: 10:15 pagi \n“Perak Makmur\, Rakyat Sejahtera”
URL:https://idrperak.my/event/cer-citer-perak-sejahtera-2030-di-perak-fm/
LOCATION:RTM Perak\, Ipoh\, Malaysia
ATTACH;FMTTYPE=image/jpeg:https://idrperak.my/wp-content/uploads/2022/08/cer-citer-fm.jpeg
END:VEVENT
END:VCALENDAR